BEGIN:VCALENDAR
PRODID:NingEventWidget-v1
VERSION:2.0
METHOD:PUBLISH
BEGIN:VEVENT
UID:5167423:Event:144146
DTSTAMP:20260423T053849Z
SUMMARY:Run with the Angels
DESCRIPTION:rod%20run%20flyer%202017.jpgrod%20run%20flyer%20back%20201
 7%20%284%29.jpg\n\nFor more information visit https://northeastwheelse
 vents.com/events/run-with-the-angels
DTSTART:20170709T040000Z
DTEND:20170710T035900Z
CATEGORIES:rod, run, " run with the angels"
LOCATION:Moravian Tile Works
WEBSITE:http://www.roadangelsdoylestown.com
URL:http://www.roadangelsdoylestown.com
CONTACT:1 267 893 9796
ORGANIZER:Road Angels Pres Al Tursi
ATTACH;FMTTYPE="image/jpeg":
ATTENDEE;ROLE=REQ-PARTICIPANT;PARTSTAT=ACCEPTED;RSVP=TRUE;CN="Robert W
 illiam Duke":https://northeastwheelsevents.com/profile/RobertWilliamDu
 ke
END:VEVENT
END:VCALENDAR
