BEGIN:VCALENDAR
PRODID:NingEventWidget-v1
VERSION:2.0
METHOD:PUBLISH
BEGIN:VEVENT
UID:5167423:Event:66450
DTSTAMP:20260421T094746Z
SUMMARY:Saint Patrick 10th Annual Car Show, Smithtown, New York
DESCRIPTION:\nSt. Patrick School\n10th Annual Car Show\nSunday, April 
 26th\n(Raindate May 3rd)\nOn the grounds of St. Patrick Church\n280 Ea
 st Main Street\nSmithtown, NY\nSee a large section of movie replica ca
 rs,\nmonster trucks, etc.\nHuge variety of cars, trucks, motorcycles.\
 nFood and entertainment\nfor the whole family\nAdmission: $5 for adult
 s\nChildren free.\nShow cars: $15, Motorcycles: $5.\nFor information c
 all 631-588-2696.\n\n\n\nFor more information visit https://northeastw
 heelsevents.com/events/saint-patrick-10th-annual-car-show-smithtown-ne
 w-york
DTSTART:20150426T130000Z
DTEND:20150426T200000Z
CATEGORIES:car, "show/fundraiser"
LOCATION:Saint Patrick Church
WEBSITE:http://stpats.americanhotrods.com
URL:http://stpats.americanhotrods.com
CONTACT:631-588-2696
ORGANIZER:John Forlenza
ATTACH;FMTTYPE="image/jpeg":http://storage.ning.com/topology/rest/1.0/
 file/get/2284068019?profile=original
ATTENDEE;ROLE=REQ-PARTICIPANT;PARTSTAT=ACCEPTED;RSVP=TRUE;CN="Greg Par
 mentier":https://northeastwheelsevents.com/profile/GregParmentier
END:VEVENT
END:VCALENDAR
