BEGIN:VCALENDAR
PRODID:NingEventWidget-v1
VERSION:2.0
METHOD:PUBLISH
BEGIN:VEVENT
UID:5167423:Event:47581
DTSTAMP:20260423T043716Z
SUMMARY:Saturday Cruise Pep Boys Speed Shop
DESCRIPTION:Open to all 10am to 4pm Ist and 3rd Saturday of each month
  . Weather permitting.First Saturday of the month coffee and cars. als
 o bring you car truck bike show it on any saturday call to reserve a s
 pot. Come on out and show your ride.\n\nFor more information visit htt
 ps://northeastwheelsevents.com/events/saturday-cruise-pep-boys-speed-s
 hop
DTSTART:20140612T120000Z
DTEND:20140612T140000Z
CATEGORIES:meet, and, greet
LOCATION:Pep Boys parking lot
WEBSITE:
URL:
CONTACT:610 929 1504
ORGANIZER;CN="Charles Birckhead":https://northeastwheelsevents.com/pro
 file/CharlesBirckhead
ATTACH;FMTTYPE="image/jpeg":
ATTENDEE;ROLE=REQ-PARTICIPANT;PARTSTAT=ACCEPTED;RSVP=TRUE;CN="Charles 
 Birckhead":https://northeastwheelsevents.com/profile/CharlesBirckhead
END:VEVENT
END:VCALENDAR
