BEGIN:VCALENDAR
PRODID:NingEventWidget-v1
VERSION:2.0
METHOD:PUBLISH
BEGIN:VEVENT
UID:5167423:Event:314810
DTSTAMP:20260422T140057Z
SUMMARY:Sauers Cares Muscle Up Against Cancer Car Show
DESCRIPTION:Sauers Cares is a catalyst for change, tailoring local com
 munity resources to solve local community problems in Bucks & Montgome
 ry Counties.\n\nSauers Cares’ Annual Muscle Up Against Cancer Car Sh
 ow benefits a cancer care charity in our region.\n\nIn 2023, Sauers Ca
 res will ambitiously partner with three local cancer care charities to
  initiate impactful projects that benefit individuals and families fig
 hting cancer. All proceeds will support the Cancer Support Community G
 reater Philadelphia, Kin Wellness and Support Center, and For Pete's S
 ake Cancer Respite Foundation.\n\nFor more information visit https://n
 ortheastwheelsevents.com/events/sauers-cares-muscle-up-against-cancer-
 car-show
DTSTART:20230708T123000Z
DTEND:20230708T180000Z
CATEGORIES:car, show
LOCATION:Intercontinental Development
WEBSITE:https://www.sauerscares.org/muac2023
URL:https://www.sauerscares.org/muac2023
CONTACT:
ORGANIZER;CN="Stephanie Carr":https://northeastwheelsevents.com/profil
 e/StephanieCarr
ATTACH;FMTTYPE="image/jpeg":https://storage.ning.com/topology/rest/1.0
 /file/get/11128792284?profile=original
ATTENDEE;ROLE=REQ-PARTICIPANT;PARTSTAT=ACCEPTED;RSVP=TRUE;CN="Stephani
 e Carr":https://northeastwheelsevents.com/profile/StephanieCarr
END:VEVENT
END:VCALENDAR
