BEGIN:VCALENDAR
PRODID:NingEventWidget-v1
VERSION:2.0
METHOD:PUBLISH
BEGIN:VEVENT
UID:5167423:Event:236584
DTSTAMP:20260423T014646Z
SUMMARY:SBMM's 30th Annual All Mopar Father's Day Car and Truck Show
DESCRIPTION:Come join the fun with the Slate Belt Mighty Mopars' 30th 
 Annual All Mopar Car & Truck Show on Sunday, June 16th, 2019 at Reagle
  Dodge, 1223 Blue Valley Drive (Rt. 512), Pen Argyl, PA. 18072.  Regi
 stration opens at 8AM and closes at 11AM.  Show runs from 9AM until 2
 PM.  Preregistration until June 10th is $12, after and to DOS: $15  
 Flyers available for download at the Club's website:  www.slatebeltmi
 ghtymopars.com Serving Breakfast and Lunch at the Club's food stand. M
 usic, Ice Cream, Drawings, Door Prizes, Participation awards and Troph
 ies. Rain Date: June 23rd.\nContacts: Rick at 610 381-7222 or\nBruce a
 t 610 863-6900\nAll Chrysler - AMC - Jeep products welcome!!!\n\n\nFor
  more information visit https://northeastwheelsevents.com/events/sbmm-
 s-30th-annual-all-mopar-father-s-day-car-amp-truck-show
DTSTART:20190616T130000Z
DTEND:20190616T180000Z
CATEGORIES:car, "&amp", truck, show
LOCATION:Reagle Dodge
WEBSITE:http://www.slatebeltmightymopars.com
URL:http://www.slatebeltmightymopars.com
CONTACT:610 381-7222 or 610 863-6900
ORGANIZER:Slate Belt Mighty Mopars
ATTACH;FMTTYPE="image/jpeg":https://storage.ning.com/topology/rest/1.0
 /file/get/1047085452?profile=original
ATTENDEE;ROLE=REQ-PARTICIPANT;PARTSTAT=ACCEPTED;RSVP=TRUE;CN="Rick Hag
 eman":https://northeastwheelsevents.com/profile/RickHageman
END:VEVENT
END:VCALENDAR
