BEGIN:VCALENDAR
PRODID:NingEventWidget-v1
VERSION:2.0
METHOD:PUBLISH
BEGIN:VEVENT
UID:5167423:Event:237010
DTSTAMP:20260419T190037Z
SUMMARY:SBMM's ALL MAKES CAR, TRUCK, AND MOTORCYCLE SHOW
DESCRIPTION:Please join the Slate Belt Mighty Mopars Car Club's Annual
  All Makes Show on Sunday, July 28th, 2019 at Reagle Dodge in Pen Argy
 l, PA.  This show benefits our local volunteer fire companies. Regist
 ration starts at 8AM and closes at 11AM.  The Show runs from 9AM to 2
 PM.  Breakfast and Lunch will be served at the Club's Food Tent.  Se
 e our website,  www.slatebeltmightymopars.com for additional informat
 ion. Rain date is August 4th, 2019.  $5 minimum donation\n\nFor more 
 information visit https://northeastwheelsevents.com/events/sbmm-s-all-
 makes-car-truck-amp-motorcycle-show
DTSTART:20190728T120000Z
DTEND:20190728T180000Z
CATEGORIES:all, makes, car, truck, "&amp", motorcycles, show
LOCATION:Reagle Dodge
WEBSITE:http://www.slatebeltmightymopars.com
URL:http://www.slatebeltmightymopars.com
CONTACT:610 381-7222 or 610 863-6900
ORGANIZER:Slate Belt Mighty Mopars
ATTACH;FMTTYPE="image/jpeg":https://storage.ning.com/topology/rest/1.0
 /file/get/1135257450?profile=original
ATTENDEE;ROLE=REQ-PARTICIPANT;PARTSTAT=ACCEPTED;RSVP=TRUE;CN="Rick Hag
 eman":https://northeastwheelsevents.com/profile/RickHageman
END:VEVENT
END:VCALENDAR
