BEGIN:VCALENDAR
PRODID:NingEventWidget-v1
VERSION:2.0
METHOD:PUBLISH
BEGIN:VEVENT
UID:5167423:Event:23142
DTSTAMP:20260424T120045Z
SUMMARY:SCCA Autocross
DESCRIPTION:Autocross double header at the Harrisburg Farm Show lot. M
 orning entry by online registration online. Afternoon session will all
 ow walk-ups. See our website for registration link.\n\nFor more inform
 ation visit https://northeastwheelsevents.com/events/scca-autocross
DTSTART:20130604T110000Z
DTEND:20130604T220000Z
CATEGORIES:autocross
LOCATION:Harrisburg Farm Show
WEBSITE:http://www.scca-susq.com
URL:http://www.scca-susq.com
CONTACT:
ORGANIZER;CN="Susquehanna SCCA":https://northeastwheelsevents.com/prof
 ile/ChrisPaveglio
ATTACH;FMTTYPE="image/jpeg":http://storage.ning.com/topology/rest/1.0/
 file/get/2284050592?profile=original
ATTENDEE;ROLE=REQ-PARTICIPANT;PARTSTAT=ACCEPTED;RSVP=TRUE;CN="Susqueha
 nna SCCA":https://northeastwheelsevents.com/profile/ChrisPaveglio
END:VEVENT
END:VCALENDAR
