BEGIN:VCALENDAR
PRODID:NingEventWidget-v1
VERSION:2.0
METHOD:PUBLISH
BEGIN:VEVENT
UID:5167423:Event:37180
DTSTAMP:20260423T013855Z
SUMMARY:SCCA U.S. Majors Tour
DESCRIPTION:The U.S. Majors Tour is the pinnacle of championship racin
 g in North America.This isn’t Easy Street. This is where America’s
  best amateur drivers race. It means start-to-finish, wheel-to-wheel a
 ction. It’s where drivers not only put their cars on the track, they
  put their pride on the line.Make no mistake, this is not country club
  driving. The kindred spirit found here is mixed with fuel and emotion
 . Adrenaline pumps a little harder here.Take a close look. It’s not 
 for everyone. If you long for the flag that welcomes or denies you, we
  have a spot for you. Welcome to the Majors.2- day tickets and single 
 day tickets are available.Kids 12 and under are free for this event.\n
 \nFor more information visit https://northeastwheelsevents.com/events/
 scca-u-s-majors-tour
DTSTART:20140606T040000Z
DTEND:20140609T035900Z
CATEGORIES:racing
LOCATION:New Jersey Motorsports Park
WEBSITE:http://www.njmp.com
URL:http://www.njmp.com
CONTACT:856-327-8000
ORGANIZER;CN="Chris Banker":https://northeastwheelsevents.com/profile/
 ChrisBanker
ATTACH;FMTTYPE="image/jpeg":http://storage.ning.com/topology/rest/1.0/
 file/get/2284063595?profile=original
ATTENDEE;ROLE=REQ-PARTICIPANT;PARTSTAT=ACCEPTED;RSVP=TRUE;CN="ALLAN BE
 TANCOURT":https://northeastwheelsevents.com/profile/2ojdipmvjvhyl
ATTENDEE;ROLE=REQ-PARTICIPANT;PARTSTAT=ACCEPTED;RSVP=TRUE;CN="Chris Ba
 nker":https://northeastwheelsevents.com/profile/ChrisBanker
END:VEVENT
END:VCALENDAR
