BEGIN:VCALENDAR
PRODID:NingEventWidget-v1
VERSION:2.0
METHOD:PUBLISH
BEGIN:VEVENT
UID:5167423:Event:1136
DTSTAMP:20260423T065301Z
SUMMARY:Schuylkill Sound Challenge
DESCRIPTION:This is a sound-off only, 2X Points event with SPL and SQL
  contests.\n12 Volt Dave's is the sponsor and he has securred the loca
 l airport for fun and games. SQL will be judged in the \"SQL Hanger\".
 \nAirplane rides for $50, maximum 3 people.\n\nFor more information vi
 sit https://northeastwheelsevents.com/events/schuylkill-sound-challeng
 e
DTSTART:20100725T130000Z
DTEND:20100725T220000Z
CATEGORIES:sound-off
LOCATION:Schuylkill County Airport
WEBSITE:http://www.mecacaraudio.com
URL:http://www.mecacaraudio.com
CONTACT:570-628-4561
ORGANIZER:12 Volt Dave
ATTACH;FMTTYPE="image/jpeg":http://storage.ning.com/topology/rest/1.0/
 file/get/2284047123?profile=original
ATTENDEE;ROLE=REQ-PARTICIPANT;PARTSTAT=ACCEPTED;RSVP=TRUE;CN="Steve St
 ern":https://northeastwheelsevents.com/profile/SteveStern
END:VEVENT
END:VCALENDAR
