BEGIN:VCALENDAR
PRODID:NingEventWidget-v1
VERSION:2.0
METHOD:PUBLISH
BEGIN:VEVENT
UID:5167423:Event:20077
DTSTAMP:20260424T051126Z
SUMMARY:Scion OC Car & Truck Show
DESCRIPTION:http://www.occarshow.com\n\nBiggest show on the east coast
 , Indoor,outdoor, Fre3sh Meet on Sunday the gen meet on Saturday, mode
 ls, giveaways, and celebrity performance by the legend Fat Joe!!!!\n\n
 \nFor more information visit https://northeastwheelsevents.com/events/
 scion-oc-car-truck-show-1
DTSTART:20130608T040000Z
DTEND:20130610T035900Z
CATEGORIES:custom, car, show
LOCATION:OCean city md
WEBSITE:http://www.occarshow.com
URL:http://www.occarshow.com
CONTACT:4109600998
ORGANIZER;CN="David Bafford":https://northeastwheelsevents.com/profile
 /DavidBafford
ATTACH;FMTTYPE="image/jpeg":http://storage.ning.com/topology/rest/1.0/
 file/get/2284055182?profile=original
ATTENDEE;ROLE=REQ-PARTICIPANT;PARTSTAT=ACCEPTED;RSVP=TRUE;CN="David Ba
 fford":https://northeastwheelsevents.com/profile/DavidBafford
END:VEVENT
END:VCALENDAR
