BEGIN:VCALENDAR
PRODID:NingEventWidget-v1
VERSION:2.0
METHOD:PUBLISH
BEGIN:VEVENT
UID:5167423:Event:42843
DTSTAMP:20260423T010125Z
SUMMARY:SCMC poker run
DESCRIPTION:Poker run going thru scenic country land. Hours of sign-in
  time are 8-12 with a donation of $8.  Start your morning with a brea
 kfast served at the club house before your ride or do the ride and com
 e back for lunch\n\nFor more information visit https://northeastwheels
 events.com/events/scmc-poker-run
DTSTART:20140608T120000Z
DTEND:20140608T160000Z
CATEGORIES:observation, run
LOCATION:off of route 183
WEBSITE:http://www.schuylkillcountymotorcycleclub.com
URL:http://www.schuylkillcountymotorcycleclub.com
CONTACT:(570) 385-1460
ORGANIZER;CN="Schuylkill County M/C":https://northeastwheelsevents.com
 /profile/SchuylkillCountyMC
ATTACH;FMTTYPE="image/jpeg":http://storage.ning.com/topology/rest/1.0/
 file/get/2284057658?profile=original
ATTENDEE;ROLE=REQ-PARTICIPANT;PARTSTAT=ACCEPTED;RSVP=TRUE;CN="Schuylki
 ll County M/C":https://northeastwheelsevents.com/profile/SchuylkillCou
 ntyMC
END:VEVENT
END:VCALENDAR
