BEGIN:VCALENDAR
PRODID:NingEventWidget-v1
VERSION:2.0
METHOD:PUBLISH
BEGIN:VEVENT
UID:5167423:Event:43137
DTSTAMP:20260423T040526Z
SUMMARY:SCMC
DESCRIPTION:June 8, 2014 from 8am to 12pm – off of route 183 Poker r
 un going thru scenic country land. Hours are sign-in time is 8-12 with
  a donation of $8.  Start your morning with a breakfast served at the
  club house before your ride or do the ride and come… Organized by S
 chuylkill County M/C | Type: poker run\n\nFor more information visit h
 ttps://northeastwheelsevents.com/events/scmc
DTSTART:20140608T120000Z
DTEND:20140608T160000Z
CATEGORIES:observation, run
LOCATION:off of route 183
WEBSITE:http://www.schuylkillcountymotorcycleclub.com
URL:http://www.schuylkillcountymotorcycleclub.com
CONTACT:(570) 385-1460
ORGANIZER;CN="Schuylkill County M/C":https://northeastwheelsevents.com
 /profile/SchuylkillCountyMC
ATTACH;FMTTYPE="image/jpeg":
ATTENDEE;ROLE=REQ-PARTICIPANT;PARTSTAT=ACCEPTED;RSVP=TRUE;CN="Schuylki
 ll County M/C":https://northeastwheelsevents.com/profile/SchuylkillCou
 ntyMC
END:VEVENT
END:VCALENDAR
