BEGIN:VCALENDAR
PRODID:NingEventWidget-v1
VERSION:2.0
METHOD:PUBLISH
BEGIN:VEVENT
UID:5167423:Event:317605
DTSTAMP:20260420T103313Z
SUMMARY:SCOUT/COMMUNITY WEEKEND AT THE MUSEUM
DESCRIPTION:ADDITIONAL DATE: SUNDAY, DECEMBER 17, NOON-3PM\n\nHOLIDAY 
 MODEL TRAIN DISPLAY- COME ENJOY THE SOUNDS, LIGHTS AND ACTION OF MODEL
  TRAINS INCLUDING G,O & HO SCALE AS THEY CHUG THEIR WAY AROUND THE MUS
 EUM.\n\nScouts FREE wearing uniform, Scouts Leaders $10 wearing unifor
 m. Adults $15, Seniors(65+) $10, Students(13-16) $8, Children 12 & und
 er FREE\n\nFor more information visit https://northeastwheelsevents.co
 m/events/scout-community-weekend-at-the-museum
DTSTART:20231216T150000Z
DTEND:20231216T200000Z
CATEGORIES:holiday, trains
LOCATION:AMERICA ON WHEELS MUSEUM
WEBSITE:http://WWW.AMERICAONWHEELS.ORG
URL:http://WWW.AMERICAONWHEELS.ORG
CONTACT:6104324200
ORGANIZER:LIZ HAHN
ATTACH;FMTTYPE="image/jpeg":https://storage.ning.com/topology/rest/1.0
 /file/get/12157601298?profile=original
END:VEVENT
END:VCALENDAR
