BEGIN:VCALENDAR
PRODID:NingEventWidget-v1
VERSION:2.0
METHOD:PUBLISH
BEGIN:VEVENT
UID:5167423:Event:98260
DTSTAMP:20260421T223615Z
SUMMARY:Seal Cove Auto Museum Picnic
DESCRIPTION:Celebrate summer feasting with your friends, at a communit
 y picnic and car show overlooking the ponds and mountains of Acadia. R
 ides in antique autos offered, weather permitting. TIME TO BE DETERMIN
 ED - call the museum for more details, 207-244-9242.\n\nFor more infor
 mation visit https://northeastwheelsevents.com/events/seal-cove-auto-m
 useum-picnic
DTSTART:20160807T040000Z
DTEND:20160808T035900Z
CATEGORIES:fundraiser
LOCATION:Seal Cove Auto Museum
WEBSITE:http://www.sealcoveautomuseum.org
URL:http://www.sealcoveautomuseum.org
CONTACT:207-244-9242
ORGANIZER:
ATTACH;FMTTYPE="image/jpeg":http://storage.ning.com/topology/rest/1.0/
 file/get/2284076978?profile=original
ATTENDEE;ROLE=REQ-PARTICIPANT;PARTSTAT=ACCEPTED;RSVP=TRUE;CN="Hope Row
 an":https://northeastwheelsevents.com/profile/HopeRowan
END:VEVENT
END:VCALENDAR
