BEGIN:VCALENDAR
PRODID:NingEventWidget-v1
VERSION:2.0
METHOD:PUBLISH
BEGIN:VEVENT
UID:5167423:Event:145843
DTSTAMP:20260423T010953Z
SUMMARY:Second Annual Poughkeepsie Italian Center Festival of Fine Car
 s and Food
DESCRIPTION:Second Annual Poughkeepsie Italian Center Festival of Fine
  Cars and Food.  Join us for the second annual Festival on August 6, 
 2017.  This drive, show, and dine event is open to all makes of Itali
 an cars and those who appreciate Italian culture.  A drive to the Ita
 lian Center will begin at 11 AM in Fishkill, NY.  The Italian Center 
 will be offering an Italian buffet for $25 per person - all inclusive.
   Spectators can view the cars in the Center's lot and enjoy the buff
 et as well.  The event is open to makes of Italian automobiles includ
 ing, but not limited to: Ferrari, Maserati, Alfa Romeo, Fiat, deTomaso
 , Lamborghini, Lancia, Pagani, Abarth, Autobianchi, Isotta Fraschini, 
 and OSCA.  We will be having a presentation on the automobile indust
 ry of Italy and its history as well.  This event is sponsored by the 
 Ferrari Club of America - Empire State Region, Hudson Valley Chapter w
 ith the support of Wide World Ferrari of Spring Valley, NY.  Reservat
 ions are necessary for the buffet.  For information or to make a rese
 rvation, please contact HVCFerrari@aol.com, \n\nFor more information 
 visit https://northeastwheelsevents.com/events/second-annual-poughkeep
 sie-italian-center-festival-of-fine-cars
DTSTART:20170806T150000Z
DTEND:20170806T200000Z
CATEGORIES:drive, show, "&", dine
LOCATION:Poughkeepsie Italian Center
WEBSITE:
URL:
CONTACT:
ORGANIZER;CN=Vito:https://northeastwheelsevents.com/profile/Vito
ATTACH;FMTTYPE="image/jpeg":http://storage.ning.com/topology/rest/1.0/
 file/get/2284099147?profile=original
ATTENDEE;ROLE=REQ-PARTICIPANT;PARTSTAT=ACCEPTED;RSVP=TRUE;CN=Vito:http
 s://northeastwheelsevents.com/profile/Vito
END:VEVENT
END:VCALENDAR
