BEGIN:VCALENDAR
PRODID:NingEventWidget-v1
VERSION:2.0
METHOD:PUBLISH
BEGIN:VEVENT
UID:5167423:Event:183619
DTSTAMP:20260420T021651Z
SUMMARY:Seized Vehicle Auction including Rolls Royce and Ferrari  Real
 ly!!
DESCRIPTION:Yes folks, Harrisburg PA is selling 2 Ferraris and a 2015 
 Rolls Royce Wraith coupe!!! Plus the usual Crown Vics, Impalas, Fusion
 s, and other seized vehicles.   \r\nUsed Commonwealth fleet vehicle 
 auctions are open to members of the general public, including dealers.
   Attendance at an auction is limited to those who are at least of 18
  years of age.  Please no pets.  Additional information can be fo
 und by reading auction policies or calling (717) 783-3132.\r\nEm
 ployees (or their agents) of the Department of General Services (DGS) 
 and members of their families are prohibited from purchasing any vehic
 les at Commonwealth used vehicle auctions conducted by or on the behal
 f of DGS. Members of the immediate family include: a spouse residing i
 n the employee's household and minor, dependent children. Employees (o
 r their agents) of all other Commonwealth agencies and members of thei
 r immediate families are prohibited from purchasing vehicles at Common
 wealth used vehicle auctions that were assigned to, or surplused by, t
 heir employing agency if the sale price exceeds $100.00. \r\nComplete
  list with photos: \r\n https://www.manheim.com/publicauctions/vehic
 leList.do?auctionID=KEYA&saleDate=20180612&saleYear=2018&saleNumber=24
 &sortKey=1&sortDirection=asc&consignor=CWPA&consignor=PUBS\n\nFor more
  information visit https://northeastwheelsevents.com/events/seized-veh
 icle-auction-including-rolls-royce-and-ferrari-really
DTSTART:20180612T130000Z
DTEND:20180612T200000Z
CATEGORIES:auction
LOCATION:Manheim Keystone Pennsylvania Auto Auction
WEBSITE:http://www.dgs.pa.gov/State%20Government/Vehicle-Management/Pa
 ges/Auto-Auction-Information.aspx
URL:http://www.dgs.pa.gov/State%20Government/Vehicle-Management/Pages/
 Auto-Auction-Information.aspx
CONTACT:(717) 783-3132.
ORGANIZER:Commonwealth of Pennsylvania
ATTACH;FMTTYPE="image/jpeg":http://storage.ning.com/topology/rest/1.0/
 file/get/2284105563?profile=original
ATTENDEE;ROLE=REQ-PARTICIPANT;PARTSTAT=ACCEPTED;RSVP=TRUE;CN="Pamela H
 irschhorn":https://northeastwheelsevents.com/profile/PamelaHirschhorn
END:VEVENT
END:VCALENDAR
