BEGIN:VCALENDAR
PRODID:NingEventWidget-v1
VERSION:2.0
METHOD:PUBLISH
BEGIN:VEVENT
UID:5167423:Event:23261
DTSTAMP:20260423T082539Z
SUMMARY:SELDEN CRUISE NIGHTS
DESCRIPTION:INDEPENDENCE PLAZA HOT RODSWED. NIGHTS...Come on Down, Han
 g Out, Have some Fun with other Classic & Muscle Car OwnersEvery Wed. 
 Night from 5:30 - 9:00 pmIndependence Plaza - Middle Country Rd. Selde
 n,There is Plenty of room for everyone to relax and enjoy.The shopping
  center offers plenty of food - Cafe Amici Pizza, Main City Chinese Ta
 ke-Out, Checkers and Studio GrilleBring your Family, Bring a Friend\nT
 HIS IS A LANDLORD APPROVED SITE!\nPLEASE NO BURNOUTS OR LOUD MUSIC!!!\
 n\nFor more information visit https://northeastwheelsevents.com/events
 /selden-cruise-nights
DTSTART:20130619T213000Z
DTEND:20130620T010000Z
CATEGORIES:weekly, cruise, night
LOCATION:Independence Plaza
WEBSITE:http://www.independencehotrods.weebly.com
URL:http://www.independencehotrods.weebly.com
CONTACT:
ORGANIZER;CN=Rich:https://northeastwheelsevents.com/profile/Rich
ATTACH;FMTTYPE="image/jpeg":http://storage.ning.com/topology/rest/1.0/
 file/get/2284052111?profile=original
ATTENDEE;ROLE=REQ-PARTICIPANT;PARTSTAT=ACCEPTED;RSVP=TRUE;CN=Rich:http
 s://northeastwheelsevents.com/profile/Rich
END:VEVENT
END:VCALENDAR
