BEGIN:VCALENDAR
PRODID:NingEventWidget-v1
VERSION:2.0
METHOD:PUBLISH
BEGIN:VEVENT
UID:5167423:Event:64592
DTSTAMP:20260422T013847Z
SUMMARY:SEMA Collector Awareness Day
DESCRIPTION:SEMA Collector Awareness Day – The date marks the fifth 
 commemoration to raise awareness of the vital role automotive restorat
 ion and collection plays in American society.\n\nFor more information 
 visit https://northeastwheelsevents.com/events/sema-collector-awarenes
 s-day
DTSTART:20150710T140000Z
DTEND:20150710T200000Z
CATEGORIES:cars, museum, family, seniors, kids, sema, collector, aware
 ness, day, education, community
LOCATION:America On Wheels
WEBSITE:http://americaonwheels.org/
URL:http://americaonwheels.org/
CONTACT:610-432-4200
ORGANIZER;CN="America On Wheels Museum":https://northeastwheelsevents.
 com/profile/americaonwheels
ATTACH;FMTTYPE="image/jpeg":http://storage.ning.com/topology/rest/1.0/
 file/get/2284065500?profile=original
ATTENDEE;ROLE=REQ-PARTICIPANT;PARTSTAT=ACCEPTED;RSVP=TRUE;CN="America 
 On Wheels Museum":https://northeastwheelsevents.com/profile/americaonw
 heels
END:VEVENT
END:VCALENDAR
