BEGIN:VCALENDAR
PRODID:NingEventWidget-v1
VERSION:2.0
METHOD:PUBLISH
BEGIN:VEVENT
UID:5167423:Event:341476
DTSTAMP:20260421T045144Z
SUMMARY:SHCC Annual Car Show
DESCRIPTION:Come join us for our annual car show and enjoy music by Th
 e Spexxx and food from J&R’s Kitchen!We are always welcoming more ca
 rs- please spread the word!\n\nFor more information visit https://nort
 heastwheelsevents.com/events/shcc-annual-car-show
DTSTART:20250710T203000Z
DTEND:20250710T230000Z
CATEGORIES:carshow
LOCATION:151 Keefer Lane
WEBSITE:https://allevents.in/sayre/shcc-annual-car-show/20002821894554
 8
URL:https://allevents.in/sayre/shcc-annual-car-show/200028218945548
CONTACT:570-888-2192
ORGANIZER:Sayre Health Care Center
ATTACH;FMTTYPE="image/jpeg":https://storage.ning.com/topology/rest/1.0
 /file/get/13644432261?profile=original
ATTENDEE;ROLE=REQ-PARTICIPANT;PARTSTAT=ACCEPTED;RSVP=TRUE;CN="William 
 Bruce":https://northeastwheelsevents.com/profile/WilliamBruce
END:VEVENT
END:VCALENDAR
