BEGIN:VCALENDAR
PRODID:NingEventWidget-v1
VERSION:2.0
METHOD:PUBLISH
BEGIN:VEVENT
UID:5167423:Event:335452
DTSTAMP:20260424T130048Z
SUMMARY:Pumpkin Fest 2024 Mud Bog 3 Day Overlanding Jeep Land Rover Of
 f Road Course Pumpkin Patch Car Crush
DESCRIPTION:\r\n\r\n\r\nPumpkin Fest 2024 Mud Bog 3 Day Overlanding Je
 ep Land Rover Off Road Course Pumpkin Patch Car Crush\r\n\r\n\r\n\r\n\
 r\n\r\n\r\n\r\n\r\n\r\n\r\nPumpkin Fest 2024 at the New Catskill Mount
 ain Off Road Park!  3 Day Mud Bod, Overlanding Festival and Family Fun
   Over 40 Upstate NY Cabins for Rent right on site!!! These are usuall
 y Summer Cabins, so they have no central heat, but each has a space he
 ater.  Camping is available at the Blackthorne Resort just ¾ of a mil
 e down the road. We will have shuttles available to run back and forth
 !  Live Music Friday and Saturday Night at the Blackthorne Resort! Shu
 ttles available!  Friday Night is Mix Tape Revival Saturday night is H
 eavy Gauge!  First 250 thru the gate get their choice of a free small 
 pumpkin, or a FREE Pumpkin Pie!  Live Band. Mix Tape Revival! Playing 
 on site Saturday 11-4 and Friday night at the Blackthorne Bar!  Live M
 agic Show ON STAGE with Thomas Baker Saturday 2-2:30!  Over 20 Cool Ve
 ndors. Including custom made hats, pumpkin fest, swag, and you can get
  a tattoo right on site!  Food Truck Area  Smores Stations ALL DAY  Pu
 mpkin Chucker  Halloween Costume Contest  Monster Truck Bouncy House  
 30 foot tall Great Pumpkin  Power Wheels Track (Bring your own Power W
 heels)  Remote Control Car track  Canos Recycling Car Crush  Mobile Ho
 me Crush  Mud Bogs with Mega Trucks  Mud Drag Racing  2 Overlanding Co
 urses With Free Rides on the Course in our Jeep!! Off Road Obstacle Co
 urse  Spooky Trick or Treat Trail\r\n\r\n\r\n\r\n\r\n\r\n\r\n\n\nFor m
 ore information visit https://northeastwheelsevents.com/events/shock-t
 oberfest-2024-foothills-oneonta
DTSTART:20241101T180000Z
DTEND:20241103T210000Z
CATEGORIES:carshow, festival
LOCATION:New Catskill Mountain Off Road Park/!Blackthorne Resort,
WEBSITE:https://allevents.in/freehold/pumpkin-fest-2024-mud-bog-3-day-
 overlanding-jeep-land-rover-off-road-course-pumpkin-patch-car-crush/20
 0027072520106
URL:https://allevents.in/freehold/pumpkin-fest-2024-mud-bog-3-day-over
 landing-jeep-land-rover-off-road-course-pumpkin-patch-car-crush/200027
 072520106
CONTACT:518-634-2541
ORGANIZER:Blackthorne Resort
ATTACH;FMTTYPE="image/jpeg":https://storage.ning.com/topology/rest/1.0
 /file/get/13032571667?profile=original
ATTENDEE;ROLE=REQ-PARTICIPANT;PARTSTAT=ACCEPTED;RSVP=TRUE;CN="William 
 Bruce":https://northeastwheelsevents.com/profile/WilliamBruce
END:VEVENT
END:VCALENDAR
