BEGIN:VCALENDAR
PRODID:NingEventWidget-v1
VERSION:2.0
METHOD:PUBLISH
BEGIN:VEVENT
UID:5167423:Event:141009
DTSTAMP:20260423T003144Z
SUMMARY:Show'N' Shine in the Park
DESCRIPTION:The Hawk Mt. Regional Group of the Early Ford V-8 Club inv
 ites any and all makes of vehicles to join us in the Fleetwood Communi
 ty Park on the 4th of July for a non-judged Car Show and Flea Market. 
 There will be music, refreshments and door prizes, and a cash drawing 
 for early registrants. Proceeds to benefit the Keystone Wounded Warrio
 rs. Pre-paid registration (before June 20th) is only $10/vehicle, and 
 $12 day of show. Flea market spaces are $10 in advance or $15 day of s
 how.\n\nFor more information visit https://northeastwheelsevents.com/e
 vents/show-n-shine-in-the-park
DTSTART:20170704T130000Z
DTEND:20170704T190000Z
CATEGORIES:fundraiser
LOCATION:Fleetwood Community Park
WEBSITE:
URL:
CONTACT:610-926-3061
ORGANIZER;CN="Richard Slegel":https://northeastwheelsevents.com/profil
 e/RichardSlegel
ATTACH;FMTTYPE="image/jpeg":http://storage.ning.com/topology/rest/1.0/
 file/get/2284092384?profile=original
ATTENDEE;ROLE=REQ-PARTICIPANT;PARTSTAT=ACCEPTED;RSVP=TRUE;CN="Richard 
 Slegel":https://northeastwheelsevents.com/profile/RichardSlegel
END:VEVENT
END:VCALENDAR
