BEGIN:VCALENDAR
PRODID:NingEventWidget-v1
VERSION:2.0
METHOD:PUBLISH
BEGIN:VEVENT
UID:5167423:Event:66991
DTSTAMP:20260422T192418Z
SUMMARY:Show & Shine in the Park
DESCRIPTION:The Hawk Mt. Region of the Early Ford V8 Club hosts an non
 -judged car show at the beautiful Fleetwood Community Park in Fleetwoo
 d, PA to benefit The Keystone Wounded Warriors. Join us for a relaxing
  day with music, good food, and friends. All makes and models welcome:
  antiques, street rods, tuners, muscle cars, trucks, rat rods.\n\nFor 
 more information visit https://northeastwheelsevents.com/events/show-s
 hine-in-the-park
DTSTART:20150704T130000Z
DTEND:20150704T190000Z
CATEGORIES:car, show, flea, market
LOCATION:Fleetwood, PA
WEBSITE:
URL:
CONTACT:610-926-3061
ORGANIZER:Rick Slegel, Hawk Mt. EFV8 Club
ATTACH;FMTTYPE="image/jpeg":http://storage.ning.com/topology/rest/1.0/
 file/get/2284069098?profile=original
ATTENDEE;ROLE=REQ-PARTICIPANT;PARTSTAT=ACCEPTED;RSVP=TRUE;CN="Rick Sle
 gel":https://northeastwheelsevents.com/profile/RickSlegel
END:VEVENT
END:VCALENDAR
