BEGIN:VCALENDAR
PRODID:NingEventWidget-v1
VERSION:2.0
METHOD:PUBLISH
BEGIN:VEVENT
UID:5167423:Event:314310
DTSTAMP:20260422T121257Z
SUMMARY:All AMC Show
DESCRIPTION:DVAMO/MACAC Regional Meet.  For all AMC, Gambler and Jeep
  1970 to 1988. Vending as well. 9 AM to 1PM being held at the Classic 
 Auto Mall in Morgantown, Pa.  This is the third date for this show be
 ing canceled on April 30 and May 12.\n\nFor more information visit htt
 ps://northeastwheelsevents.com/events/show
DTSTART:20230708T130000Z
DTEND:20230708T170000Z
CATEGORIES:car, show
LOCATION:Classic Auto Mall
WEBSITE:
URL:
CONTACT:717-586-8654 or 610-213-8284
ORGANIZER:Kevin Shenberger or Scott Weaver
ATTACH;FMTTYPE="image/jpeg":
ATTENDEE;ROLE=REQ-PARTICIPANT;PARTSTAT=ACCEPTED;RSVP=TRUE;CN="Andrew H
 ahn":https://northeastwheelsevents.com/profile/AndrewHahn
END:VEVENT
END:VCALENDAR
