BEGIN:VCALENDAR
PRODID:NingEventWidget-v1
VERSION:2.0
METHOD:PUBLISH
BEGIN:VEVENT
UID:5167423:Event:228413
DTSTAMP:20260421T112200Z
SUMMARY:Showboat Atlantic City Classic Car Sales Event & Show
DESCRIPTION:Free Classic Car Sales Event and Show will be held Februar
 y 7th through  the 10th inside the Showboat Hotel AC NJ More info at 
 ShowBoatCarShow.com\n\n\n\n\n\n\nFor more information visit https://no
 rtheastwheelsevents.com/events/showboat-atlantic-city-classic-car-sale
 s-event-amp-show
DTSTART:20190207T200000Z
DTEND:20190211T000000Z
CATEGORIES:classic, car, sales, event, "&amp", show
LOCATION:ShowBoat Hotel Atlantic City NJ
WEBSITE:http://www.ShowBoatCarShow.com
URL:http://www.ShowBoatCarShow.com
CONTACT:856-521-0832
ORGANIZER:South Jersey Classics
ATTACH;FMTTYPE="image/jpeg":https://storage.ning.com/topology/rest/1.0
 /file/get/457712081?profile=original
ATTENDEE;ROLE=REQ-PARTICIPANT;PARTSTAT=ACCEPTED;RSVP=TRUE;CN="Shawn Wa
 rk":https://northeastwheelsevents.com/profile/ShawnWark
END:VEVENT
END:VCALENDAR
