BEGIN:VCALENDAR
PRODID:NingEventWidget-v1
VERSION:2.0
METHOD:PUBLISH
BEGIN:VEVENT
UID:5167423:Event:138236
DTSTAMP:20260423T205424Z
SUMMARY:Simeone Museum Demo Day-Sexy Tails
DESCRIPTION:Our first Demo Day of 2017 will focus on why America had s
 o few sports cars. We'll feature the Auburn 8-88 Boat Tail Speedster, 
 Auburn V12 Speedster, Auburn 851 Speedster, Kissel Speedster, Paige Sp
 eedster and the DuPont Model G Speedster. This is an indoor event.\n\n
 For more information visit https://northeastwheelsevents.com/events/si
 meone-museum-demo-day-sexy-tails
DTSTART:20170114T170000Z
DTEND:20170114T183000Z
CATEGORIES:lecture, "&", demo
LOCATION:The Simeone Museum
WEBSITE:http://www.simeonemuseum.org/demonstration-demo-days
URL:http://www.simeonemuseum.org/demonstration-demo-days
CONTACT:2153657233
ORGANIZER;CN="The Simeone Museum":https://northeastwheelsevents.com/pr
 ofile/TheSimeoneMuseum
ATTACH;FMTTYPE="image/jpeg":http://storage.ning.com/topology/rest/1.0/
 file/get/2284090668?profile=original
ATTENDEE;ROLE=REQ-PARTICIPANT;PARTSTAT=ACCEPTED;RSVP=TRUE;CN="The Sime
 one Museum":https://northeastwheelsevents.com/profile/TheSimeoneMuseum
END:VEVENT
END:VCALENDAR
