BEGIN:VCALENDAR
PRODID:NingEventWidget-v1
VERSION:2.0
METHOD:PUBLISH
BEGIN:VEVENT
UID:5167423:Event:206416
DTSTAMP:20260425T072407Z
SUMMARY:Simeone Museum-Formula 1 book signing!
DESCRIPTION:Please join us as we welcome acclaimed author and biograph
 er Nick Skeens to the Simeone Foundation Automotive Museum on Wednesda
 y, October 3, from 7 PM through 9 PM for a book signing and conversati
 on about Formula 1 racing legend, John Barnard. Copies of Nick's book 
 \"The Perfect Car: The Biography of John Barnard  Motorsports Most
  Creative Designer\" will be available for purchase and signing by th
 e author.\n\nFor more information visit https://northeastwheelsevents.
 com/events/simeone-museum-formula-1-book-signing
DTSTART:20181003T230000Z
DTEND:20181004T010000Z
CATEGORIES:museum, book, signing, lecture
LOCATION:The Simeone Museum
WEBSITE:https://www.eventbrite.com/e/book-signing-and-discussion-with-
 nick-skeens-tickets-50549744647?aff=ebdssbdestsearch
URL:https://www.eventbrite.com/e/book-signing-and-discussion-with-nick
 -skeens-tickets-50549744647?aff=ebdssbdestsearch
CONTACT:215-365-7233
ORGANIZER;CN="The Simeone Museum":https://northeastwheelsevents.com/pr
 ofile/TheSimeoneMuseum
ATTACH;FMTTYPE="image/jpeg":http://storage.ning.com/topology/rest/1.0/
 file/get/2284112267?profile=original
ATTENDEE;ROLE=REQ-PARTICIPANT;PARTSTAT=ACCEPTED;RSVP=TRUE;CN="The Sime
 one Museum":https://northeastwheelsevents.com/profile/TheSimeoneMuseum
END:VEVENT
END:VCALENDAR
