BEGIN:VCALENDAR
PRODID:NingEventWidget-v1
VERSION:2.0
METHOD:PUBLISH
BEGIN:VEVENT
UID:5167423:Event:328712
DTSTAMP:20260425T082653Z
SUMMARY:Skiview Drags(Skyview) is Back! \"The Comeback Season,\"  Satu
 rday Funday
DESCRIPTION: Skywiew Drags(Skiview), returns with \"The Comeback\" Se
 ason on Saturday, June 8, 2024 at 8am. Funday at the track! Weather Pe
 rmitting! Bring a go-cart, mini-bike, 4 wheelers, side by side, gas sc
 ooters, lawn tractors, cars, golf carts, trucks, buses, even gas skate
  boards. Dad's challenge your sons dirt bike with your 4 wheelers, do 
 it, have fun!   Contact us for information and entry fee, Drivers $4
 0, Spectators $20. \r\n\r\nTrack History! Under New Ownership! First 
 Event Since 2018! Originally opened in 2004! On the site of the former
  Skyline Amusement Park sits a long straight stretch of ground, 1/8 of
  a mile, home to the thunder and excitement of a sport known as Drag R
 acing!\r\n There are 8 planned no prep events at Skyview Dragway in 2
 024. Plus other events, check website for full 2024 list. Rules will b
 e posted on the event page. Gates open at 8am, Drivers Meeting/Chip Dr
 aw at 11am. Race begins at 12 noon. Flashlight start, no tire crack, n
 o crossing center line. This is a front side race, but no pases have b
 een made, it is as bare as it gets. Easy off I86/rt. 17, near NY/Pa. b
 order. Off Rt.17c/Waverly Rd. Near Owego, NY. For info. Email: Skyview
 drags@aol.com or mail: Skyview Drag Strip, P.O Box 24, Tioga Center, N
 Y 13845\r\n\r\nTest and Tune, every Friday, weather permitting, from 5
 pm-10pm. $20. \r\n\r\nFuture openings: Shangri La II oval, and 4 whee
 ler/go-cart tracks. Camping area. Check https://www.fingerlakestraveln
 y.com/listing/skyview-dragstrip/2239/ for map and travel info. Read ab
 out the reopening at https://www.dragzine.com/news/closed-six-years-ag
 o-new-yorks-skyview-drags-to-reopen/\r\nCheck here for info. on events
 , \r\nhttps://m.facebook.com/groups/2538689212958885/\r\n\n\nFor more
  information visit https://northeastwheelsevents.com/events/skiview-dr
 ags-skyview-is-back-the-comeback-season-saturday-funday
DTSTART:20240608T140000Z
DTEND:20240609T020000Z
CATEGORIES:drag, racing
LOCATION:Skyview Dragstrip
WEBSITE:https://www.facebook.com/people/skyview-drags/100063717347485/
URL:https://www.facebook.com/people/skyview-drags/100063717347485/
CONTACT:607-687-9392
ORGANIZER:Robert A. Goodell
ATTACH;FMTTYPE="image/jpeg":https://storage.ning.com/topology/rest/1.0
 /file/get/12421169456?profile=original
ATTENDEE;ROLE=REQ-PARTICIPANT;PARTSTAT=ACCEPTED;RSVP=TRUE;CN="William 
 Bruce":https://northeastwheelsevents.com/profile/WilliamBruce
END:VEVENT
END:VCALENDAR
