BEGIN:VCALENDAR
PRODID:NingEventWidget-v1
VERSION:2.0
METHOD:PUBLISH
BEGIN:VEVENT
UID:5167423:Event:326040
DTSTAMP:20260425T133516Z
SUMMARY:Skyview Drags is Back! \"The Comeback,\" Sampson No Prep and C
 ar Show!
DESCRIPTION:This Event is Postponed due to weather! Watch Facebook for
  new date! Skywiew Drags(Skiview), returns with \"The Comeback\" on Sa
 turday, June 9, 2024 at 8am. Change from the 8th. Car show and Flea Ma
 rket same day! Contact us for information and entry fee! Under New Own
 ership! First Event Since 2018! Originally opened in 2004! On the site
  of the former Skyline Amusement Park sits a long straight stretch of 
 ground, 1/8 of a mile, home to the thunder and excitement of a sport k
 nown as Drag Racing! There are 8 planned no prep events at Skyview Dra
 gway in 2024. Plus other events, check website for full 2024 list. Rul
 es will be posted on the event page. Gates open at 8am, Drivers Meetin
 g/Chip Draw at 11am. Race begins at 12 noon. Flashlight start, no tire
  crack, no crossing center line. This is a front side race, but no pas
 es have been made, it is as bare as it gets. Easy off I86/rt. 17, near
  NY/Pa. border. Off Rt.17c/Waverly Rd. Near Owego, NY. For info. Email
 : Skyviewdrags@aol.com or mail: Skyview Drag Strip, P.O Box 24, Tioga 
 Center, NY 13845\r\nDrivers $40, Spectators $20. \r\n Awards: Small 
 Tire: $200, with $500 to top. Big Tire: $300 with $500 for top. Daily 
 Driver: $50 with $100 on top. Ultimate Street: $100 buy in $200 on top
 . R.W.Y.B. $100. \r\n\r\nTest and Tune, every Friday, weather permitt
 ing, from 5pm-10pm. $20. \r\n\r\nFuture openings: Shangri La II oval,
  and 4 wheeler/go-cart tracks. Camping area. Check https://www.fingerl
 akestravelny.com/listing/skyview-dragstrip/2239/ for map and travel in
 fo.\r\nRead about the reopening at https://www.dragzine.com/news/close
 d-six-years-ago-new-yorks-skyview-drags-to-reopen/\r\nhttps\"//skyline
 motorsportspark.com/skiline-dragway/\r\nRead about our History on our 
 old fb page. \r\nhttps://m.facebook.com/people/SkyView-Drags/10006371
 7347485/\r\n\n\nFor more information visit https://northeastwheelseven
 ts.com/events/skyview-drags-is-back-the-comeback-sampson-no-prep
DTSTART:20240609T120000Z
DTEND:20240610T020000Z
CATEGORIES:drag, racing
LOCATION:Skyview Dragstrip
WEBSITE:https://www.facebook.com/groups/2538689212958885/
URL:https://www.facebook.com/groups/2538689212958885/
CONTACT:607-687-9392
ORGANIZER:Robert A. Goodell
ATTACH;FMTTYPE="image/jpeg":https://storage.ning.com/topology/rest/1.0
 /file/get/12421169456?profile=original
ATTENDEE;ROLE=REQ-PARTICIPANT;PARTSTAT=ACCEPTED;RSVP=TRUE;CN="William 
 Bruce":https://northeastwheelsevents.com/profile/WilliamBruce
END:VEVENT
END:VCALENDAR
