BEGIN:VCALENDAR
PRODID:NingEventWidget-v1
VERSION:2.0
METHOD:PUBLISH
BEGIN:VEVENT
UID:5167423:Event:344525
DTSTAMP:20260421T045351Z
SUMMARY:Sloatsburg Annual AutumnFest!
DESCRIPTION:SUNDAY, SEPTEMBER 28, 2025 - 10AM TO 3PMLocated in the Slo
 atsburg Community Fields behind Rhodes TavernThe Sloatsburg Chamber of
  Commerce is getting ready for its 2025 Sloatsburg AutumnFest at the S
 loatsburg Community Fields situated behind Cooper's Tavern (the old Rh
 odes Tavern).Thank you to our Premier Event Sponsor:Rockland County To
 urismAutumnFest is a family-friendly day with craft vendors, food, liv
 e music, car show 🚘 , chili contest and children activities with th
 e Sloatsburg Library.Interested in being a vendor? Email sloatsburgch
 amberofcommerce@gmail.com\n\nFor more information visit https://northe
 astwheelsevents.com/events/sloatsburg-annual-autumnfest
DTSTART:20250928T140000Z
DTEND:20250928T180000Z
CATEGORIES:carshow
LOCATION:Sloatsburg Community Field,
WEBSITE:https://allevents.in/sloatsburg/sloatsburg-annual-autumnfest/2
 00028709705601
URL:https://allevents.in/sloatsburg/sloatsburg-annual-autumnfest/20002
 8709705601
CONTACT:845-753-6438
ORGANIZER:Sloatsburg Chamber of Commerce
ATTACH;FMTTYPE="image/jpeg":https://storage.ning.com/topology/rest/1.0
 /file/get/13717773268?profile=original
ATTENDEE;ROLE=REQ-PARTICIPANT;PARTSTAT=ACCEPTED;RSVP=TRUE;CN="William 
 Bruce":https://northeastwheelsevents.com/profile/WilliamBruce
END:VEVENT
END:VCALENDAR
