BEGIN:VCALENDAR
PRODID:NingEventWidget-v1
VERSION:2.0
METHOD:PUBLISH
BEGIN:VEVENT
UID:5167423:Event:344818
DTSTAMP:20260424T113352Z
SUMMARY:Soap Box Derby Rally Weekend
DESCRIPTION:Get ready to race down the hill in your soapbox car in our
  Soap Box Derby Rally Weekend, with a morning & afternoon session each
  day.\r\nGet ready to compete side-by-side as you coasting down the hi
 ll in your gravity powered car in our Soap Box Derby Rally Weekend, wi
 th two races each day (4 in total). For ages 7-20.\r\n\r\nPay registra
 tion fees ahead of time for Saturday ($50), Sunday ($50) or Both ($100
 ), Eventbrite processing fees extra. Or pay in person on the day of th
 e event.\r\n\r\nContact the Race Director regarding the use of a limit
 ed number of loaners car to use for the event.\r\nSat. 7am-Sun. 8am. 
 \n\nFor more information visit https://northeastwheelsevents.com/event
 s/soap-box-derby-rally-weekend
DTSTART:20251004T110000Z
DTEND:20251005T210000Z
CATEGORIES:derbyrace
LOCATION:New Hampshire Motor Speedway
WEBSITE:https://www.eventbrite.com/e/soap-box-derby-rally-weekend-tick
 ets-1641527495929
URL:https://www.eventbrite.com/e/soap-box-derby-rally-weekend-tickets-
 1641527495929
CONTACT:603-783-4931
ORGANIZER:New Hampshire Soap Box Derby
ATTACH;FMTTYPE="image/jpeg":https://storage.ning.com/topology/rest/1.0
 /file/get/13719099084?profile=original
ATTENDEE;ROLE=REQ-PARTICIPANT;PARTSTAT=ACCEPTED;RSVP=TRUE;CN="William 
 Bruce":https://northeastwheelsevents.com/profile/WilliamBruce
END:VEVENT
END:VCALENDAR
