BEGIN:VCALENDAR
PRODID:NingEventWidget-v1
VERSION:2.0
METHOD:PUBLISH
BEGIN:VEVENT
UID:5167423:Event:106940
DTSTAMP:20260421T093411Z
SUMMARY:Souderton Community Night out/Car Show Around the Park
DESCRIPTION:The East Penn Modifiers Club would like to invite everyone
  to the 6th annual Souderton Community Night Out & Car Show Around the
  Park held on the streets surrounding the Souderton Park. The event is
  scheduled for Tuesday August 9th (rain date 8/11th) 5pm-9pm & registr
 ation will start around 4pm & $15 is the requested minimum donation. T
 op 25 + 5 special awards will be presented along with DJ, 50/50, Fire 
 & Police vehicles on display & other community events. Proceeds will b
 e distributed back to several local charities in the community. for mo
 re info call Jim Hunsberger 215-313-7033 or Chris Mills 267-745-3626\n
 \nFor more information visit https://northeastwheelsevents.com/events/
 souderton-community-night-out-car-show-around-the-park
DTSTART:20160809T210000Z
DTEND:20160810T010000Z
CATEGORIES:benefit, fundraiser
LOCATION:Wile Ave & Reliance Rd surrounding the Souderton Community Pa
 rk
WEBSITE:
URL:
CONTACT:215-313-7033
ORGANIZER;CN="Jim Hunsberger":https://northeastwheelsevents.com/profil
 e/JimHunsberger
ATTACH;FMTTYPE="image/jpeg":http://storage.ning.com/topology/rest/1.0/
 file/get/2160571207?profile=original
ATTENDEE;ROLE=REQ-PARTICIPANT;PARTSTAT=ACCEPTED;RSVP=TRUE;CN="Jim Huns
 berger":https://northeastwheelsevents.com/profile/JimHunsberger
END:VEVENT
END:VCALENDAR
