BEGIN:VCALENDAR
PRODID:NingEventWidget-v1
VERSION:2.0
METHOD:PUBLISH
BEGIN:VEVENT
UID:5167423:Event:37243
DTSTAMP:20260423T142856Z
SUMMARY:South Jersey Region AACA 43rd Annual Swap Meet & Car Corral
DESCRIPTION:43rd Annual Swap Meet for automotive items only. Over 350 
 vendor spaces last year, Plenty of parking and food. Covered spaces, i
 ndoor spaces & plenty of tailgate spaces. Spaces are $35 pre registrat
 ion, ($50 day of). Vendor set up 6 - 8 AM. Held rain or shine\n\nFor m
 ore information visit https://northeastwheelsevents.com/events/south-j
 ersey-region-aaca-43rd-annual-swap-meet-car-corral
DTSTART:20140323T120000Z
DTEND:20140323T190000Z
CATEGORIES:swap, meet, "&", car, corral
LOCATION:Salem County Fair Grounds
WEBSITE:http://www.sjraaca.com
URL:http://www.sjraaca.com
CONTACT:609-221-5435
ORGANIZER:Chuck Gibson
ATTACH;FMTTYPE="image/jpeg":
ATTENDEE;ROLE=REQ-PARTICIPANT;PARTSTAT=ACCEPTED;RSVP=TRUE;CN="Gary Gre
 en":https://northeastwheelsevents.com/profile/GaryGreen
END:VEVENT
END:VCALENDAR
