BEGIN:VCALENDAR
PRODID:NingEventWidget-v1
VERSION:2.0
METHOD:PUBLISH
BEGIN:VEVENT
UID:5167423:Event:134914
DTSTAMP:20260424T141532Z
SUMMARY:Special Opening Reception AMORE DELLA STRADA: ITALIAN CARS
DESCRIPTION:Hershey, PA (October 17, 2016)Â  The lines between art and
  the automobile are unquestionably blurred, and arguably some of the m
 ost beautiful cars in the world come from Italy.Â \"Amore della Strada
 ,\"Â translates to \"Love of the Road\" and the latest exhibit at theÂ
  Antique Automobile Club America (AACA) MuseumÂ in Hershey provides a 
 sampling of Italy's finest with a gathering ofÂ eighteen cars and seve
 n motorcycles. The display runs fromNovember 19 through April 22, 2017
 Â throughout the main galleries of the world class automotive museum.\
 nThe dazzling array of vehicles ranges from the ordinary, a 1937 Fiat 
 Topolino, to the extraordinary, a one-family owned 1954 Siata 200 CS, 
 Balbo. Rare and unusual vehicles include a 1974 DeTomaso Longchamps Co
 upe, a 1967 Italia Omega Convertible, and 1977 Piaggio Ape. You'll see
  iconic cars such as, a 1971 Fiat 850 Spider, 1974 Fiat X 1/9 and 1974
  Fiat 124 Spider as well as the more exotic 1978 Ferrari 308GTB and 19
 95 Ferrari 512M. The Alfisti will delight at the sight of a 1974 Alfa 
 Romeo Montreal, 1974 Alfa Romeo GTV, and 1967 Alfa Romeo GT 1300 Junio
 r. Experience the high-style of design houses such as Pininfarina, Ber
 tone and Vignale, among others. Motorcycles include Ducati, IsoMoto an
 d Moto Guzzi marques.Â \nA special opening reception, Friday, November
  18 at 6:00 PMÂ will provide an opportunity to be among the first to s
 ee these exciting automobiles and motorcycles, meet the owners, enjoy 
 drinks and hors d'oeuvres, along with conversation among fellow enthus
 iasts. Tickets for the opening are $20 for adults and $10 for children
 . They are available on-line atwww.AACAMuseum.orgÂ or by calling 717-5
 66-7100 x100. Come and enjoy a taste of the red, white and green. Rega
 rdless of whether you remember Gina Lolabrigida, Sofia Loren, or Miami
  Vice and Magnum P.I., this is one show you don't want to miss!\n\nFor
  more information visit https://northeastwheelsevents.com/events/speci
 al-opening-reception-amore-della-strada-italian-cars
DTSTART:20161118T230000Z
DTEND:20161119T010000Z
CATEGORIES:opening, reception
LOCATION:AACA Museum
WEBSITE:
URL:
CONTACT:717 566-7100 x100
ORGANIZER:AACA Museum
ATTACH;FMTTYPE="image/jpeg":http://storage.ning.com/topology/rest/1.0/
 file/get/2284090328?profile=original
ATTENDEE;ROLE=REQ-PARTICIPANT;PARTSTAT=ACCEPTED;RSVP=TRUE;CN="Pamela H
 irschhorn":https://northeastwheelsevents.com/profile/PamelaHirschhorn
END:VEVENT
END:VCALENDAR
