BEGIN:VCALENDAR
PRODID:NingEventWidget-v1
VERSION:2.0
METHOD:PUBLISH
BEGIN:VEVENT
UID:5167423:Event:309268
DTSTAMP:20260425T154206Z
SUMMARY:Spring Carlisle Collector Car Auction
DESCRIPTION:The Spring Carlisle Collector Car Auction is at the Carlis
 le Expo Center. 400+ consignments are anticipated to cross the block. 
 The auction starts at 12 noon daily and with three convenient ways to 
 bid (phone, online and in-person) plus decades of automotive history a
 vailable! Whether you want to consign a vehicle or bid, visit Carlisle
 Auctions.com or speak with the Auction team at 717-960-6400.\n\n\nFor 
 more information visit https://northeastwheelsevents.com/events/spring
 -carlisle-collector-car-auction-4
DTSTART:20230420T040000Z
DTEND:20230422T035900Z
CATEGORIES:auction
LOCATION:Carlisle Expo Center
WEBSITE:https://carlisleauctions.com/
URL:https://carlisleauctions.com/
CONTACT:7179606400
ORGANIZER;CN="Carlisle Events":https://northeastwheelsevents.com/profi
 le/MichaelGarland
ATTACH;FMTTYPE="image/jpeg":https://storage.ning.com/topology/rest/1.0
 /file/get/10886806056?profile=original
ATTENDEE;ROLE=REQ-PARTICIPANT;PARTSTAT=ACCEPTED;RSVP=TRUE;CN="Carlisle
  Events":https://northeastwheelsevents.com/profile/MichaelGarland
END:VEVENT
END:VCALENDAR
