BEGIN:VCALENDAR
PRODID:NingEventWidget-v1
VERSION:2.0
METHOD:PUBLISH
BEGIN:VEVENT
UID:5167423:Event:261051
DTSTAMP:20260425T140843Z
SUMMARY:Spring Carlisle Collector Car Auction    RESCHEDULED : JUNE 18
  - 19
DESCRIPTION:RESCHEDULED \r\nJUNE 18 - 19 \r\nBe part of the auction e
 xcitement at the Spring Carlisle Collector Car Auction held at the Car
 lisle Expo Center in Carlisle, PA. This 2-day auction sees 500+ classi
 c and collector cars across the block! In conjunction with the auction
  is the neighboring Spring Carlisle, one of the largest automotive fle
 a markets in the world! Register to bid or consign at www.carlisleauct
 ions.com\n\nFor more information visit https://northeastwheelsevents.c
 om/events/spring-carlisle-collector-car-auction-rescheduled-may-28-29
DTSTART:20200528T160000Z
DTEND:20200530T000000Z
CATEGORIES:auction, swap, meet, car, corral
LOCATION:Carlisle Expo Center
WEBSITE:http://www.carlisleauctions.com/
URL:http://www.carlisleauctions.com/
CONTACT:7179606400
ORGANIZER:Carlisle Auctions
ATTACH;FMTTYPE="image/jpeg":https://storage.ning.com/topology/rest/1.0
 /file/get/3711535949?profile=original
ATTENDEE;ROLE=REQ-PARTICIPANT;PARTSTAT=ACCEPTED;RSVP=TRUE;CN="Pamela H
 irschhorn":https://northeastwheelsevents.com/profile/PamelaHirschhorn
END:VEVENT
END:VCALENDAR
