BEGIN:VCALENDAR
PRODID:NingEventWidget-v1
VERSION:2.0
METHOD:PUBLISH
BEGIN:VEVENT
UID:5167423:Event:261123
DTSTAMP:20260425T154158Z
SUMMARY:Spring Carlisle   RESCHEDULED :  June 17 - 20
DESCRIPTION:RESCHEDULED \r\nJUNE 17 - 20\r\nSpring Carlisle is one of 
 the largest automotive flea markets in the world and one of the best o
 pportunities to get your hands on all things automotive. With 8,100 sp
 aces of vendors selling a vast array of automotive parts, accessories,
  cars, collectibles and memorabilia, it's almost certain that you won'
 t go home empty handed. Accompanied with the massive automotive flea m
 arket and car corral, is the Manufacturers Midway featuring the latest
  and greatest products & services, and a two-day auction presented by 
 Carlisle Auctions across the street!\n\nFor more information visit htt
 ps://northeastwheelsevents.com/events/spring-carlisle-rescheduled-may-
 27-31
DTSTART:20200527T110000Z
DTEND:20200531T160000Z
CATEGORIES:swap, meet, car, corral, auction
LOCATION:Carlisle PA Fairgrounds
WEBSITE:https://www.carlisleevents.com/events/events-detail/index?id=s
 pring+carlisle
URL:https://www.carlisleevents.com/events/events-detail/index?id=sprin
 g+carlisle
CONTACT:7172437855
ORGANIZER:Carlisle Events
ATTACH;FMTTYPE="image/jpeg":https://storage.ning.com/topology/rest/1.0
 /file/get/3711534368?profile=original
ATTENDEE;ROLE=REQ-PARTICIPANT;PARTSTAT=ACCEPTED;RSVP=TRUE;CN="Pamela H
 irschhorn":https://northeastwheelsevents.com/profile/PamelaHirschhorn
END:VEVENT
END:VCALENDAR
