BEGIN:VCALENDAR
PRODID:NingEventWidget-v1
VERSION:2.0
METHOD:PUBLISH
BEGIN:VEVENT
UID:5167423:Event:70241
DTSTAMP:20260421T112859Z
SUMMARY:Spring Fever 2015 - April 26th 2015 - Quakertown Pa 18951
DESCRIPTION:Registration starts at 8:30 a.m. Show starts at 11 a.m. Ou
 r 4th Annual car show hosted by: The First Pennsylvania Mustang Club,
  Faulkner Ciocca Ford of Quakertown, and Ciocca Performance. The show
  is open to ALL Years, Makes, and Models. All proceeds benefit the St 
 Isidore food pantry in Quakertown.\n\nAddress is 1531 Park Ave Quakert
 own Pa. (Ciocca Service Center Located behind Hess)\n\nPlease arrive e
 arly as the event has gotten larger every year.\n\n\nFor more informat
 ion visit https://northeastwheelsevents.com/events/spring-fever-2015-a
 pril-26th-2015-quakertown-pa-18951
DTSTART:20150426T120000Z
DTEND:20150426T190000Z
CATEGORIES:car, show, and, benefit
LOCATION:Ciocca Service Center / Ciocca Performance
WEBSITE:https://www.facebook.com/events/599666233503512/
URL:https://www.facebook.com/events/599666233503512/
CONTACT:215-529-7647
ORGANIZER:First Pennsylvania Mustang Club, Ciocca Ford, and Ciocca Per
 formance
ATTACH;FMTTYPE="image/jpeg":
ATTENDEE;ROLE=REQ-PARTICIPANT;PARTSTAT=ACCEPTED;RSVP=TRUE;CN="Ed Simps
 on":https://northeastwheelsevents.com/profile/EdSimpson
END:VEVENT
END:VCALENDAR
