BEGIN:VCALENDAR
PRODID:NingEventWidget-v1
VERSION:2.0
METHOD:PUBLISH
BEGIN:VEVENT
UID:5167423:Event:64762
DTSTAMP:20260420T231318Z
SUMMARY:Spring Fling 2015
DESCRIPTION:Hey, guys and gals, it's that time of year to plan to come
  out to celebrate the fun of cruisin' and automobiles at the Corner.Â 
  This year we will have a revamped list of the ten classes for better 
 opportunities of winning.Â  There will still be three trophies per cla
 ss plus the Car/Truck Best of Show, Motorcycle Best of Show, and Pasto
 r's Choice.Â  The classes are as follows:\n\nClass A:Â  Cars 1939 and 
 older\nClass B:Â  Cars 1940-59\nClass C:Â  Cars 1960-69\nClass D:Â  Ca
 rs 1970-79\nClass E:Â  Cars 1980-99\nClass F:Â  Cars 2000-09\nClass G:
 Â  Cars 2010 and newer\nClass H:Â  Trucks and Jeeps 1959 and older\nCl
 ass I:Â  Trucks, Jeeps, Vans and SUVs 1960 and newer\nClass J:Â  Motor
 cycles\n\nPeople's choice balloting will take place from 11:00 till 2:
 00 and will be restricted to those who register a vehicle for voting.Â
   Results will be announced at 2:30.\n\nThere will be face painting an
 d vendors, so bring the entire family for a day of lots of fun, and, y
 es, the Cornerstone Cafe will be open.Â  Bricker's French Fries will b
 e here as well. Registration will be $5.00 per vehicle.Â  Dash will be
  given out to the first 50 vehicles to register.\n\nFor more informati
 on, give a jingle on the talking machine to Dennis Benton, Jr. at 717-
 318-7608 or go to our website at cbcdover.com.Â  We hope you come out 
 and.......\n\nSEE YOU AT THE CORNER!\n\nFor more information visit htt
 ps://northeastwheelsevents.com/events/spring-fling-2015
DTSTART:20150613T150000Z
DTEND:20150613T190000Z
CATEGORIES:car, show
LOCATION:Cornerstone Bible Church
WEBSITE:http://cbcdover.com
URL:http://cbcdover.com
CONTACT:717-318-7608
ORGANIZER;CN="Dennis Benton Jr":https://northeastwheelsevents.com/prof
 ile/DennisBentonJr
ATTACH;FMTTYPE="image/jpeg":http://api.ning.com:80/files/hMNECPNor9-4o
 6mCw90phwVW-LE0bk5uiEVt-mfFWO1sgktW9dhL5Ik6mRs5XYAjDRl*KppcnGumvpmEi68
 GuXkxRiBgF2H3/101_0028.JPG
ATTENDEE;ROLE=REQ-PARTICIPANT;PARTSTAT=ACCEPTED;RSVP=TRUE;CN="Dennis B
 enton Jr":https://northeastwheelsevents.com/profile/DennisBentonJr
END:VEVENT
END:VCALENDAR
