BEGIN:VCALENDAR
PRODID:NingEventWidget-v1
VERSION:2.0
METHOD:PUBLISH
BEGIN:VEVENT
UID:5167423:Event:137768
DTSTAMP:20260420T164458Z
SUMMARY:Spring Fling 2017
DESCRIPTION:The Auto Outreach team of Cornerstone Bible Church wishes 
 to invite you to Spring Fling 2017.  We will Continue to have ten cla
 sses on the showfield with three trophies awarded for each class, alon
 g with the Car/Truck Best-of-Show, Motorcycles and Trikes Best-of-Show
  and the Pastor's Choice.  The classes are as follows:\n\nClass A:  
 Cars 1939 and older\nClass B:  Cars 1940-59\nClass C:  Cars 1960-69\
 nClass D:  Cars 1970-79\nClass E: Cars 1980-99\nClass F:  Cars 2000-
 09\nClass G:  Cars 2010 and newer\nClass H:  Trucks and Jeeps 1959 a
 nd older\nClass I:  Trucks, Jeeps, Vans and SUVs 1960 and newer\nClas
 s J:  Motorcycles and Trikes\n\nRegistration will be $5.00 per vehicl
 e.  The first 50 vehicles to be registered will receive a dash plaque
 .. Peoples' choice voting will take place from 4:00pm till 7:00pm with
  results to be announced at 7:30.  There will be a chance for you to 
 help the Central Pennsylvania Blood Bank with a Donation of blood.\n\n
 For more information visit https://northeastwheelsevents.com/events/sp
 ring-fling-2017
DTSTART:20170610T200000Z
DTEND:20170611T000000Z
CATEGORIES:car, show
LOCATION:Cornerstone Bible Church
WEBSITE:http://cbcdover.com
URL:http://cbcdover.com
CONTACT:717-318-7608
ORGANIZER;CN="Dennis Benton Jr":https://northeastwheelsevents.com/prof
 ile/DennisBentonJr
ATTACH;FMTTYPE="image/jpeg":http://storage.ning.com/topology/rest/1.0/
 file/get/2284091750?profile=original
ATTENDEE;ROLE=REQ-PARTICIPANT;PARTSTAT=ACCEPTED;RSVP=TRUE;CN="Dennis B
 enton Jr":https://northeastwheelsevents.com/profile/DennisBentonJr
END:VEVENT
END:VCALENDAR
