BEGIN:VCALENDAR
PRODID:NingEventWidget-v1
VERSION:2.0
METHOD:PUBLISH
BEGIN:VEVENT
UID:5167423:Event:225760
DTSTAMP:20260423T120421Z
SUMMARY:Spring Fling 2019, Dover PA
DESCRIPTION:The members of the Auto Outreach Team of Cornerstone Bible
  Church, 3500 Cardinal Lane, Dover, PA, wish to invite you to Spring F
 ling 2019 Car Show and Blood Drive Spectacular.  Among the trophies t
 o be awarded will be three Best-of-Show trophies - Car, Truck and Moto
 rcycle/Trike and our coveted Pastor's Choice Award.\n\nRegistration fe
 e is $5.00 per vehicle with the first 50 entries receiving a dash plaq
 ue.  \n\nWe feature 11 classes with three trophies awarded in each cl
 ass.  There will be lots of great food, music, vehicles, motorcycles 
 and trikes.  The Central Pennsylvania Blood Bank will be on site for 
 the entire show for those who would like to donate blood.  Country Cl
 ickers will perform at 6:00.  People's choice voting will take place 
 from 4:00 till 6:30 followed by the awards presentation at 7:00.  Bri
 ng a non-perishable food item for New Hope Ministries to help those in
  need.\n\nCome out and enjoy all the fun!\n\nFor more information visi
 t https://northeastwheelsevents.com/events/spring-fling-2019
DTSTART:20190608T200000Z
DTEND:20190609T000000Z
CATEGORIES:car, show
LOCATION:Cornerstone Bible Church
WEBSITE:http://cbcdoverpa.org
URL:http://cbcdoverpa.org
CONTACT:7173187608
ORGANIZER;CN="Dennis Benton Jr":https://northeastwheelsevents.com/prof
 ile/DennisBentonJr
ATTACH;FMTTYPE="image/jpeg":https://storage.ning.com/topology/rest/1.0
 /file/get/324432097?profile=original
ATTENDEE;ROLE=REQ-PARTICIPANT;PARTSTAT=ACCEPTED;RSVP=TRUE;CN="Dennis B
 enton Jr":https://northeastwheelsevents.com/profile/DennisBentonJr
END:VEVENT
END:VCALENDAR
