BEGIN:VCALENDAR
PRODID:NingEventWidget-v1
VERSION:2.0
METHOD:PUBLISH
BEGIN:VEVENT
UID:5167423:Event:36586
DTSTAMP:20260423T211834Z
SUMMARY:Spring Fling Flea Market
DESCRIPTION:37th annual indoor automotive flea market and chairity fu
 nd raiser. Automotive parts and supplies.\nAll kinds of car parts. \n
 Free Parking.\n$5.00 Admission.\nVendor space, call Mark @ 585-786-287
 6\n\nFor more information visit https://northeastwheelsevents.com/even
 ts/spring-fling-flea-market
DTSTART:20140330T130000Z
DTEND:20140330T190000Z
CATEGORIES:automotive, flea, market, "/", swap, meet
LOCATION:Total Sports Experience Building, Rochester, New York
WEBSITE:http://www.wnyrg.org
URL:http://www.wnyrg.org
CONTACT:585-637-8863 or 585-786-2876
ORGANIZER:Western New York Region of The Early Ford V-8 Club of Americ
 a
ATTACH;FMTTYPE="image/jpeg":
ATTENDEE;ROLE=REQ-PARTICIPANT;PARTSTAT=ACCEPTED;RSVP=TRUE;CN="Pat McFa
 rlane":https://northeastwheelsevents.com/profile/PatMcFarlane
END:VEVENT
END:VCALENDAR
