BEGIN:VCALENDAR
PRODID:NingEventWidget-v1
VERSION:2.0
METHOD:PUBLISH
BEGIN:VEVENT
UID:5167423:Event:337856
DTSTAMP:20260420T170921Z
SUMMARY:Spring Swap Meet
DESCRIPTION:Hundreds of vendors, thousands of buyers!\r\nMark your cal
 endar for Saturday, March 15th as we kick the gates open for the Sprin
 g Swap Meet. Rain Date: Sunday, March 16th, 2025. Over the years this 
 event has grown both in vendors and buyers and we anticipate another g
 reat turnout.  Gates open for Vendors at 6AM. Buyers Gates at 7:30AM.
    \r\n\r\n\r\n\r\n\r\nBuyers $10, Vendors $40 for a 20’ x 20’ s
 pace. No need to reserve, spaces are first-come-first-serve.\r\n\r\n\r
 \n\r\n\r\ninfo@maplegroveraceway.com, for info or check website. \r\n
 See you there!\n\nFor more information visit https://northeastwheelsev
 ents.com/events/spring-swap-meet-1
DTSTART:20250315T110000Z
DTEND:20250316T000000Z
CATEGORIES:cars, "auction/swap"
LOCATION:Maple Grove Raceway
WEBSITE:http://www.maplegroveraceway.com/
URL:http://www.maplegroveraceway.com/
CONTACT:(610) 856-9200
ORGANIZER:Maple Grove Raceway.
ATTACH;FMTTYPE="image/jpeg":http://storage.ning.com/topology/rest/1.0/
 file/get/2284094857?profile=original
ATTENDEE;ROLE=REQ-PARTICIPANT;PARTSTAT=ACCEPTED;RSVP=TRUE;CN="William 
 Bruce":https://northeastwheelsevents.com/profile/WilliamBruce
END:VEVENT
END:VCALENDAR
