BEGIN:VCALENDAR
PRODID:NingEventWidget-v1
VERSION:2.0
METHOD:PUBLISH
BEGIN:VEVENT
UID:5167423:Event:323365
DTSTAMP:20260425T120742Z
SUMMARY:Spring Weatherly Hillclimb
DESCRIPTION:This is a hill climb run under the rules of the PHA and SC
 CA. The pits are accessible and spectating is good with many refreshme
 nt stands. The course is a paved road.\n\nFor more information visit h
 ttps://northeastwheelsevents.com/events/spring-weatherly-hillclimb-2
DTSTART:20240608T220000Z
DTEND:20240609T230000Z
CATEGORIES:hill, climb
LOCATION:Hill st. Weatherly, PA
WEBSITE:http://www.google.com/maps/place/Weatherly,+PA+18255/@40.94111
 7,-75.841383,14z/data=!3m1!4b1!4m6!3m5!1s0x89c5ae97d7df594
URL:http://www.google.com/maps/place/Weatherly,+PA+18255/@40.941117,-7
 5.841383,14z/data=!3m1!4b1!4m6!3m5!1s0x89c5ae97d7df594
CONTACT:
ORGANIZER:Weatherly Hillclimb Association
ATTACH;FMTTYPE="image/jpeg":https://storage.ning.com/topology/rest/1.0
 /file/get/12324096898?profile=original
ATTENDEE;ROLE=REQ-PARTICIPANT;PARTSTAT=ACCEPTED;RSVP=TRUE;CN="Donald M
 cLaughlin":https://northeastwheelsevents.com/profile/DonaldMcLaughlin
END:VEVENT
END:VCALENDAR
