BEGIN:VCALENDAR
PRODID:NingEventWidget-v1
VERSION:2.0
METHOD:PUBLISH
BEGIN:VEVENT
UID:5167423:Event:313455
DTSTAMP:20260422T053630Z
SUMMARY:1st Annual Big Truck Car Truck and Bike Show
DESCRIPTION:\n\nFor more information visit https://northeastwheelseven
 ts.com/events/st-annual-big-truck-car-truck-and-bike-show
DTSTART:20230625T130000Z
DTEND:20230625T200000Z
CATEGORIES:benefiting, wounded, warriors, pennsylvania
LOCATION:Williamsport, Pa
WEBSITE:https://goo.gl/maps/fvGPrkxwnuMmKFqJ6
URL:https://goo.gl/maps/fvGPrkxwnuMmKFqJ6
CONTACT:570-974-1923
ORGANIZER:Charlie D. Lumbard Carz 4a Cause
ATTACH;FMTTYPE="image/jpeg":https://storage.ning.com/topology/rest/1.0
 /file/get/11036803079?profile=original
ATTENDEE;ROLE=REQ-PARTICIPANT;PARTSTAT=ACCEPTED;RSVP=TRUE;CN="Charlie 
 D. Lumbard":https://northeastwheelsevents.com/profile/CharlieDLumbard
END:VEVENT
END:VCALENDAR
