BEGIN:VCALENDAR
PRODID:NingEventWidget-v1
VERSION:2.0
METHOD:PUBLISH
BEGIN:VEVENT
UID:5167423:Event:315473
DTSTAMP:20260422T223608Z
SUMMARY:St. Elizabeth Ann Seton Church. Annual Car Show
DESCRIPTION:Saturday September 16 2023 9am to 3pm judge by The Fabulou
 s 50s & 60s Nostalgia Car Club trophies and prizes 50/50  there will 
 be raffle prizes every 20 minutes after noon spectators welcome $20 pe
 r car receive a Free coffee and bagel with each car registration conta
 ct text or call 631-484-2807 hosted with K of V Pope Plus Xll council 
 17159\n\nFor more information visit https://northeastwheelsevents.com/
 events/st-elizabeth-ann-seton-church-annual-car-show
DTSTART:20230916T130000Z
DTEND:20230916T190000Z
CATEGORIES:car, show, "/", fundraiser
LOCATION:St Elizabeth Ann Seton Church
WEBSITE:http://www.Fab50s60sCarClub.com
URL:http://www.Fab50s60sCarClub.com
CONTACT:631-484-2807
ORGANIZER:Robert
ATTACH;FMTTYPE="image/jpeg":https://storage.ning.com/topology/rest/1.0
 /file/get/11489090285?profile=original
ATTENDEE;ROLE=REQ-PARTICIPANT;PARTSTAT=ACCEPTED;RSVP=TRUE;CN="john for
 lenza":https://northeastwheelsevents.com/profile/johnforlenza
END:VEVENT
END:VCALENDAR
