BEGIN:VCALENDAR
PRODID:NingEventWidget-v1
VERSION:2.0
METHOD:PUBLISH
BEGIN:VEVENT
UID:5167423:Event:338078
DTSTAMP:20260421T123425Z
SUMMARY:Steakouts Pittsgrove 14th Annual Car Show!
DESCRIPTION:Steakouts Pittsgrove 14th Annual Car Show!\r\nThis year’
 s car will be held on Saturday April 5th 2025!You know Steakouts can p
 ut on a great show with live entertainment throughout the day/night.Ba
 nds: TBA*** Free Entry to Spectators***Preregistration is encouraged, 
 as we are looking to give away of our collectible dash plates. The fir
 st 50 cars registered to the show will receive a commemorative dash pl
 ate! Be sure to come in early!\r\nRegistration begins at 10:30 AMShow 
 begins at 1:00 PMCost:Pre-Registration: $10Day Of Registration: $15Tro
 phies awarded to:Categories:1. Best Vintage Truck2. Best Modern Truck3
 . Best Vintage Car Original4. Best Custom Vintage Car5. Best Modern Or
 iginal Car6. Best modern Custom Car7. Best Import Original8. Best Impo
 rt Custom9. Best Paint10. Best in Show (people's choice)Make sure to s
 top out and enjoy our various outdoor amenities such as cornhole, voll
 eyball, giant jenga pool and more!Vendors Wanted!!!! Sign up NOW:https
 ://docs.google.com/forms/d/1bAoXKNGxqwbMfy8nEvtocCctp_Rzx7iy-OWGvKHF1h
 s/edit?usp=drivesdk/\n\nFor more information visit https://northeastwh
 eelsevents.com/events/steakouts-pittsgrove-14th-annual-car-show
DTSTART:20250405T143000Z
DTEND:20250405T210000Z
CATEGORIES:carshow
LOCATION:Steakouts Homeplate
WEBSITE:https://allevents.in/malaga/steakouts-pittsgrove-14th-annual-c
 ar-show/200027936924422
URL:https://allevents.in/malaga/steakouts-pittsgrove-14th-annual-car-s
 how/200027936924422
CONTACT:856-358-3144
ORGANIZER:Steakouts Homeplate Pittsgrove
ATTACH;FMTTYPE="image/jpeg":https://storage.ning.com/topology/rest/1.0
 /file/get/13527705454?profile=original
ATTENDEE;ROLE=REQ-PARTICIPANT;PARTSTAT=ACCEPTED;RSVP=TRUE;CN="William 
 Bruce":https://northeastwheelsevents.com/profile/WilliamBruce
END:VEVENT
END:VCALENDAR
