BEGIN:VCALENDAR
PRODID:NingEventWidget-v1
VERSION:2.0
METHOD:PUBLISH
BEGIN:VEVENT
UID:5167423:Event:77586
DTSTAMP:20260422T062831Z
SUMMARY:Steamin' Day at Auburn Heights: Spotlight on Small Engines
DESCRIPTION:Celebrate stars, stripes, and steam during Steamin’ Day 
 at Auburn Heights over the 4th of July holiday weekend. This event wil
 l feature a special spotlight on small engines. Join us and visit our 
 special guests’ displays of functional engines of all sorts. To coin
 cide with this display, our special kids activity will include a build
 ing area where kids can see what they can put together using only recy
 cled materials collected by our volunteers. These special activities w
 ill be in addition to all of the regular Steamin’ Day activities tha
 t let our visitors to imagine what life was like when the car was in i
 ts infancy through special demonstrations, rides in historic automobil
 es such as the 1915 steam-powered Stanley Mountain Wagon, the museum a
 nd more.  Enjoy the beautiful grounds of the Auburn Heights Estate du
 ring this great day for the whole family.\n\nFor more information visi
 t https://northeastwheelsevents.com/events/steamin-day-at-auburn-heigh
 ts-spotlight-on-small-engines
DTSTART:20150705T163000Z
DTEND:20150705T203000Z
CATEGORIES:special, event, fundraiser
LOCATION:Marshall Steam Museum
WEBSITE:http://auburnheights.org/
URL:http://auburnheights.org/
CONTACT:302-239-2385
ORGANIZER:Susan Randolph
ATTACH;FMTTYPE="image/jpeg":http://storage.ning.com/topology/rest/1.0/
 file/get/2284073171?profile=original
ATTENDEE;ROLE=REQ-PARTICIPANT;PARTSTAT=ACCEPTED;RSVP=TRUE;CN="Jesse Ga
 gnon":https://northeastwheelsevents.com/profile/JesseGagnon
END:VEVENT
END:VCALENDAR
