BEGIN:VCALENDAR
PRODID:NingEventWidget-v1
VERSION:2.0
METHOD:PUBLISH
BEGIN:VEVENT
UID:5167423:Event:37741
DTSTAMP:20260423T210151Z
SUMMARY:Steamin' Thanksgiving at Auburn Heights Preserve
DESCRIPTION:Skip the post-Thanksgiving shopping madness and bring the 
 family out to Auburn Heights in support of a local organization. In ad
 dition to all of the usual Steamin' Day fun, enjoy special Thanksgivin
 g-themed activities.\n\nFor more information visit https://northeastwh
 eelsevents.com/events/steamin-thanksgiving-at-auburn-heights-preserve
DTSTART:20141129T173000Z
DTEND:20141129T213000Z
CATEGORIES:museum, event
LOCATION:Auburn Heights Preserve
WEBSITE:http://www.auburnheights.org
URL:http://www.auburnheights.org
CONTACT:3022392385
ORGANIZER;CN="Jesse Gagnon":https://northeastwheelsevents.com/profile/
 JesseGagnon
ATTACH;FMTTYPE="image/jpeg":http://storage.ning.com/topology/rest/1.0/
 file/get/2284055304?profile=original
ATTENDEE;ROLE=REQ-PARTICIPANT;PARTSTAT=ACCEPTED;RSVP=TRUE;CN="Jesse Ga
 gnon":https://northeastwheelsevents.com/profile/JesseGagnon
END:VEVENT
END:VCALENDAR
