BEGIN:VCALENDAR
PRODID:NingEventWidget-v1
VERSION:2.0
METHOD:PUBLISH
BEGIN:VEVENT
UID:5167423:Event:325983
DTSTAMP:20260422T100735Z
SUMMARY:Stepping Stones 5 Car and Truck Show
DESCRIPTION:\n\nFor more information visit https://northeastwheelseven
 ts.com/events/stepping-stones-5-car-and-truck-show
DTSTART:20240915T140000Z
DTEND:20240915T190000Z
CATEGORIES:local, community, charities, car, "show/cruise", ins
LOCATION:Ken Pollock Ford
WEBSITE:https://www.facebook.com/events/764104248990679/
URL:https://www.facebook.com/events/764104248990679/
CONTACT:570-974-1923
ORGANIZER:Kim and Mark with Carz 4a Cause, NEPA Cars and Coffee
ATTACH;FMTTYPE="image/jpeg":https://storage.ning.com/topology/rest/1.0
 /file/get/12426377084?profile=original
ATTENDEE;ROLE=REQ-PARTICIPANT;PARTSTAT=ACCEPTED;RSVP=TRUE;CN="Charlie 
 D. Lumbard":https://northeastwheelsevents.com/profile/CharlieDLumbard
END:VEVENT
END:VCALENDAR
