BEGIN:VCALENDAR
PRODID:NingEventWidget-v1
VERSION:2.0
METHOD:PUBLISH
BEGIN:VEVENT
UID:5167423:Event:240401
DTSTAMP:20260422T075121Z
SUMMARY:Steve Ryan Model A Car Show & Swap (Free)
DESCRIPTION:Saturday, May 18, 2019 9 am to 3 pmRain or ShineModel ‘A
  & AA’ Only Car Show & SwapStock or Original Model A Ford & Era Equi
 pment Only7723 Hamilton Blvd • Breinigsville, PA 18031 • Short Dri
 ve from Rt 78 and Rt 222Swap meet spots are a $10 Donation • Model A
  / AA & Early Ford Parts OnlyNO house hold items • NO dolls • NO m
 odern tools • NO modern toysAn associated car club is not required f
 or show. RSVP your swap space or your club for the day: 484.548.0632 o
 r lvmodelaclub@gmail.comFree Admission Free Car RegistrationHubley Mod
 el Car Display Technical PresentationPin Striping by Jim BrandVariety 
 of Model “A” CarsShow Car Paved ParkingSwap Meet & Concessions\n\n
 For more information visit https://northeastwheelsevents.com/events/st
 eve-ryan-model-a-car-show-amp-swap-free
DTSTART:20190518T130000Z
DTEND:20190518T200000Z
CATEGORIES:steve, ryan, model, a, car, show, "&amp", swap
LOCATION:Goodwill Fire No 1 of Trexlertown
WEBSITE:
URL:
CONTACT:
ORGANIZER;CN="Mr. Tim Zavacki":https://northeastwheelsevents.com/profi
 le/MrTimZavacki
ATTACH;FMTTYPE="image/jpeg":https://storage.ning.com/topology/rest/1.0
 /file/get/1402064429?profile=original
ATTENDEE;ROLE=REQ-PARTICIPANT;PARTSTAT=ACCEPTED;RSVP=TRUE;CN="Mr. Tim 
 Zavacki":https://northeastwheelsevents.com/profile/MrTimZavacki
END:VEVENT
END:VCALENDAR
